BEGIN:VCALENDAR
VERSION:2.0
PRODID:-//wp-events-plugin.com//7.2.3.1//EN
TZID:Europe/Berlin
X-WR-TIMEZONE:Europe/Berlin
BEGIN:VEVENT
UID:509@klinikum-ingolstadt.de
DTSTART;TZID=Europe/Berlin;VALUE=DATE:20260515
DTEND;TZID=Europe/Berlin;VALUE=DATE:20260517
DTSTAMP:20260414T103607Z
URL:https://klinikum-ingolstadt.de/veranstaltungen/afs-grundlagen-und-gefa
 esssonographie-neurosonographie-afs-1-2-2/
SUMMARY:AFS Grundlagen und Gefäßsonographie\, Neurosonographie (AFS 1 + 2
 )
DESCRIPTION:Die Sonographie stellt ein leicht zu erlernendes Verfahren dar\
 , mit welchem man\, dank der immer transportabler werdenden Hardware\, Pun
 ktionen zur Regionalanästhesie oder aber zur Anlage von Gefäßzugängen 
 nahezu überall erfolgreich und komplikationsarm durchführen kann.
ATTACH;FMTTYPE=image/jpeg:https://klinikum-ingolstadt.de/wp-content/upload
 s/BB_Prof-Bergler-am-Sonogeraet.jpg
CATEGORIES:Fachveranstaltungen,ISI,IA
END:VEVENT
BEGIN:VTIMEZONE
TZID:Europe/Berlin
X-LIC-LOCATION:Europe/Berlin
BEGIN:DAYLIGHT
DTSTART:20260329T030000
TZOFFSETFROM:+0100
TZOFFSETTO:+0200
TZNAME:CEST
END:DAYLIGHT
END:VTIMEZONE
END:VCALENDAR