BEGIN:VCALENDAR
VERSION:2.0
PRODID:-//wp-events-plugin.com//7.2.3.1//EN
TZID:Europe/Berlin
X-WR-TIMEZONE:Europe/Berlin
BEGIN:VEVENT
UID:699@klinikum-ingolstadt.de
DTSTART;TZID=Europe/Berlin:20260713T090000
DTEND;TZID=Europe/Berlin:20260713T170000
DTSTAMP:20260331T100846Z
URL:https://klinikum-ingolstadt.de/veranstaltungen/auffrischungsschulung-a
 uszubildende-fuehren-und-motivieren-nur-fuer-mitarbeitende-der-klinikum-in
 golstadt-gmbh/
SUMMARY:Auffrischungsschulung: "Auszubildende führen und motivieren" - (nu
 r für Mitarbeitende der Klinikum Ingolstadt GmbH)
DESCRIPTION:&nbsp\;\n\nAls feste Ansprech- und Bezugsperson für unsere Aus
 zubildenden leisten Sie einen entscheidenden Beitrag zur Zukunftsfähigkei
 t unseres Unternehmens. Sie begleiten junge Talente nicht nur fachlich\, s
 ondern prägen durch Ihr Engagement maßgeblich deren berufliche und pers
 önliche Entwicklung.\nDie Schwerpunkte der Schulung im Überblick:\n\n 	R
 echtliche Sicherheit: Aktuelle Gesetzesregelungen und Pflichten im Umgang 
 mit Auszubildenden (gemäß BBiG).\n 	Motivation: Methoden zur Steigerung 
 der Eigeninitiative und Bindung von Auszubildenden\n 	Moderne Führung: An
 wendung zeitgemäßer Führungsmodelle in der Ausbildungspraxis\n 	Struktu
 rierte Ausbildung: Praxisnahe Erstellung und Anpassung von Unterweisungspl
 änen.\n 	Professionelles Feedback: Rechtssichere und motivierende Formuli
 erung von Beurteilungen.\n 	Erfahrungsaustausch: Diskussion und Best Pract
 ices im Kollegenkreis.\n
ATTACH;FMTTYPE=image/jpeg:https://klinikum-ingolstadt.de/wp-content/upload
 s/iStock-1499937405.jpg
CATEGORIES:Interne Fortbildungen
LOCATION:Raum Ingolstadt im MVZ\, Levelingstraße 21\, Ingolstadt\, Bayern\
 , 85049 \, Deutschland
GEO:48.771148;11.377333
X-APPLE-STRUCTURED-LOCATION;VALUE=URI;X-ADDRESS=Levelingstraße 21\, Ingols
 tadt\, Bayern\, 85049 \, Deutschland;X-APPLE-RADIUS=100;X-TITLE=Raum Ingol
 stadt im MVZ:geo:48.771148,11.377333
END:VEVENT
BEGIN:VTIMEZONE
TZID:Europe/Berlin
X-LIC-LOCATION:Europe/Berlin
BEGIN:DAYLIGHT
DTSTART:20260329T030000
TZOFFSETFROM:+0100
TZOFFSETTO:+0200
TZNAME:CEST
END:DAYLIGHT
END:VTIMEZONE
END:VCALENDAR