BEGIN:VCALENDAR
VERSION:2.0
PRODID:-//wp-events-plugin.com//7.2.3.1//EN
TZID:Europe/Berlin
X-WR-TIMEZONE:Europe/Berlin
BEGIN:VEVENT
UID:664@klinikum-ingolstadt.de
DTSTART;TZID=Europe/Berlin:20261113T080000
DTEND;TZID=Europe/Berlin:20261115T180000
DTSTAMP:20260414T131911Z
URL:https://klinikum-ingolstadt.de/veranstaltungen/european-trauma-course-
 etc-aerztinnen-13-11-15-11-2026/
SUMMARY:European Trauma Course (ETC) Ärzt:innen 13.11. - 15.11.2026
DESCRIPTION:[fusion_builder_container type="flex" hundred_percent="no" hund
 red_percent_height="no" hundred_percent_height_scroll="no" align_content="
 stretch" flex_align_items="flex-start" flex_justify_content="flex-start" f
 lex_wrap="wrap" hundred_percent_height_center_content="yes" equal_height_c
 olumns="no" container_tag="div" hide_on_mobile="small-visibility\,medium-v
 isibility\,large-visibility" status="published" border_style="solid" box_s
 hadow="no" box_shadow_blur="0" box_shadow_spread="0" gradient_start_positi
 on="0" gradient_end_position="100" gradient_type="linear" radial_direction
 ="center center" linear_angle="180" background_position="center center" ba
 ckground_repeat="no-repeat" fade="no" background_parallax="none" enable_mo
 bile="no" parallax_speed="0.3" background_blend_mode="none" background_sli
 der_skip_lazy_loading="no" background_slider_random_order="no" background_
 slider_loop="yes" background_slider_pause_on_hover="no" background_slider_
 slideshow_speed="5000" background_slider_animation="fade" background_slide
 r_direction="up" background_slider_animation_speed="800" video_aspect_rati
 o="16:9" video_loop="yes" video_mute="yes" pattern_bg="none" pattern_bg_st
 yle="default" pattern_bg_opacity="100" pattern_bg_blend_mode="normal" mask
 _bg="none" mask_bg_style="default" mask_bg_opacity="100" mask_bg_transform
 ="left" mask_bg_blend_mode="normal" absolute="off" absolute_devices="small
 \,medium\,large" sticky="off" sticky_devices="small-visibility\,medium-vis
 ibility\,large-visibility" sticky_transition_offset="0" scroll_offset="0" 
 animation_direction="left" animation_speed="0.3" animation_delay="0" filte
 r_hue="0" filter_saturation="100" filter_brightness="100" filter_contrast=
 "100" filter_invert="0" filter_sepia="0" filter_opacity="100" filter_blur=
 "0" filter_hue_hover="0" filter_saturation_hover="100" filter_brightness_h
 over="100" filter_contrast_hover="100" filter_invert_hover="0" filter_sepi
 a_hover="0" filter_opacity_hover="100" filter_blur_hover="0"][fusion_build
 er_row][fusion_builder_column type="1_2" layout="1_2" align_self="auto" co
 ntent_layout="column" align_content="flex-start" valign_content="flex-star
 t" content_wrap="wrap" center_content="no" column_tag="div" target="_self"
  hide_on_mobile="small-visibility\,medium-visibility\,large-visibility" st
 icky_display="normal\,sticky" order_medium="0" order_small="0" hover_type=
 "none" border_style="solid" box_shadow="no" box_shadow_blur="0" box_shadow
 _spread="0" background_type="single" gradient_start_position="0" gradient_
 end_position="100" gradient_type="linear" radial_direction="center center"
  linear_angle="180" lazy_load="avada" background_position="left top" backg
 round_repeat="no-repeat" background_blend_mode="none" background_slider_sk
 ip_lazy_loading="no" background_slider_random_order="no" background_slider
 _loop="yes" background_slider_pause_on_hover="no" background_slider_slides
 how_speed="5000" background_slider_animation="fade" background_slider_dire
 ction="up" background_slider_animation_speed="800" sticky="off" sticky_dev
 ices="small-visibility\,medium-visibility\,large-visibility" absolute="off
 " filter_type="regular" filter_hover_element="self" filter_hue="0" filter_
 saturation="100" filter_brightness="100" filter_contrast="100" filter_inve
 rt="0" filter_sepia="0" filter_opacity="100" filter_blur="0" filter_hue_ho
 ver="0" filter_saturation_hover="100" filter_brightness_hover="100" filter
 _contrast_hover="100" filter_invert_hover="0" filter_sepia_hover="0" filte
 r_opacity_hover="100" filter_blur_hover="0" transform_type="regular" trans
 form_hover_element="self" transform_scale_x="1" transform_scale_y="1" tran
 sform_translate_x="0" transform_translate_y="0" transform_rotate="0" trans
 form_skew_x="0" transform_skew_y="0" transform_scale_x_hover="1" transform
 _scale_y_hover="1" transform_translate_x_hover="0" transform_translate_y_h
 over="0" transform_rotate_hover="0" transform_skew_x_hover="0" transform_s
 kew_y_hover="0" transition_duration="300" transition_easing="ease" scroll_
 motion_devices="small-visibility\,medium-visibility\,large-visibility" ani
 mation_direction="left" animation_speed="0.3" animation_delay="0" last="fa
 lse" border_position="all" first="true"][fusion_button link="https://isi.k
 linikum-ingolstadt.de/#/events/f543dd9e-bd7f-49ce-88c7-1f7df32b333e" enabl
 e_hover_text_icon="no" target="_self" aria_role_button="0" hide_on_mobile=
 "small-visibility\,medium-visibility\,large-visibility" sticky_display="no
 rmal\,sticky" html_attributes="W10=" color="default" type="3d" size="xlarg
 e" stretch="default" margin_top="5%" margin_right="5%" margin_bottom="5%" 
 margin_left="5%" icon="fa-arrow-right fas" icon_position="right" icon_divi
 der="no" hover_transition="none" animation_direction="left" animation_spee
 d="0.3" animation_delay="0"]Anmeldung ETC Ärzt:innen 13.11. - 15.11.2026[
 /fusion_button][fusion_text disable_idd="no" hide_on_mobile="small-visibil
 ity\,medium-visibility\,large-visibility" sticky_display="normal\,sticky" 
 html_attributes="W10=" animation_direction="left" animation_speed="0.3" an
 imation_delay="0"]Der European Trauma Course (ETC) ist ein europaweit etab
 liertes\, hochmodernes Ausbildungskonzept für die strukturierte Versorgun
 g von schwerverletzten Patientinnen und Patienten im Schockraum. Im Mittel
 punkt steht dabei nicht nur das medizinische Fachwissen\, sondern vor alle
 m effektive Teamarbeit\, klare Kommunikation und ein reibungsloses Zusamme
 nspiel aller beteiligten Berufsgruppen.\n\nWarum der European Trauma Cours
 e?\n\nSchwerverletzte Patient*innen stellen interprofessionelle Teams täg
 lich vor komplexe Herausforderungen. Der ETC vermittelt praxisnah und real
 istisch\, wie kritische Situationen sicher\, effizient und koordiniert gem
 eistert werden können.\n\nRelevanz für die Traumazentrum-Zertifizierung\
 n\nDer ETC ist als Kurs zur Zertifizierung im Trauma Netzwerk anerkannt. D
 er ETC ist zertifiziert durch das European Resuscitation Council\, die Eur
 opean Society of Anaesthesiology\, die European Society for Trauma and Eme
 rgency Surgery und die European Society for Emergency Medicine.\n\nKosten:
 \n1.300 Euro für Ärzte und Ärztinnen\n\nFür das leibliche Wohl und aus
 reichend Pausenzeiten wird gesorgt.[/fusion_text][/fusion_builder_column][
 fusion_builder_column type="1_2" layout="1_2" align_self="auto" content_la
 yout="column" align_content="flex-start" valign_content="flex-start" conte
 nt_wrap="wrap" center_content="no" column_tag="div" target="_self" hide_on
 _mobile="small-visibility\,medium-visibility\,large-visibility" sticky_dis
 play="normal\,sticky" order_medium="0" order_small="0" hover_type="none" b
 order_style="solid" box_shadow="no" box_shadow_blur="0" box_shadow_spread=
 "0" background_type="single" gradient_start_position="0" gradient_end_posi
 tion="100" gradient_type="linear" radial_direction="center center" linear_
 angle="180" lazy_load="avada" background_position="left top" background_re
 peat="no-repeat" background_blend_mode="none" background_slider_skip_lazy_
 loading="no" background_slider_random_order="no" background_slider_loop="y
 es" background_slider_pause_on_hover="no" background_slider_slideshow_spee
 d="5000" background_slider_animation="fade" background_slider_direction="u
 p" background_slider_animation_speed="800" sticky="off" sticky_devices="sm
 all-visibility\,medium-visibility\,large-visibility" absolute="off" filter
 _type="regular" filter_hover_element="self" filter_hue="0" filter_saturati
 on="100" filter_brightness="100" filter_contrast="100" filter_invert="0" f
 ilter_sepia="0" filter_opacity="100" filter_blur="0" filter_hue_hover="0" 
 filter_saturation_hover="100" filter_brightness_hover="100" filter_contras
 t_hover="100" filter_invert_hover="0" filter_sepia_hover="0" filter_opacit
 y_hover="100" filter_blur_hover="0" transform_type="regular" transform_hov
 er_element="self" transform_scale_x="1" transform_scale_y="1" transform_tr
 anslate_x="0" transform_translate_y="0" transform_rotate="0" transform_ske
 w_x="0" transform_skew_y="0" transform_scale_x_hover="1" transform_scale_y
 _hover="1" transform_translate_x_hover="0" transform_translate_y_hover="0"
  transform_rotate_hover="0" transform_skew_x_hover="0" transform_skew_y_ho
 ver="0" transition_duration="300" transition_easing="ease" scroll_motion_d
 evices="small-visibility\,medium-visibility\,large-visibility" animation_d
 irection="left" animation_speed="0.3" animation_delay="0" last="true" bord
 er_position="all" first="false"][fusion_title title_type="text" scroll_rev
 eal_effect="color_change" scroll_reveal_basis="chars" scroll_reveal_behavi
 or="always" scroll_reveal_duration="500" scroll_reveal_stagger="200" scrol
 l_reveal_delay="0" scroll_reveal_above_fold="yes" marquee_direction="left"
  marquee_mask_edges="no" marquee_speed="15000" rotation_effect="bounceIn" 
 display_time="1200" highlight_effect="circle" loop_animation="once" highli
 ght_animation_duration="1500" highlight_width="9" highlight_smudge_effect=
 "no" highlight_top_margin="0" title_link="off" link_target="_self" hide_on
 _mobile="small-visibility\,medium-visibility\,large-visibility" sticky_dis
 play="normal\,sticky" html_attributes="W10=" content_align="left" size="3"
  text_shadow="no" text_shadow_blur="0" text_stroke="no" text_stroke_size="
 1" text_overflow="none" gradient_font="no" gradient_start_position="0" gra
 dient_end_position="100" gradient_type="linear" radial_direction="center c
 enter" linear_angle="180" style_type="default" animation_direction="left" 
 animation_speed="0.3" animation_delay="0"]\n\nInhalte\n\n[/fusion_title][f
 usion_checklist type="icons" hide_on_mobile="small-visibility\,medium-visi
 bility\,large-visibility"][fusion_li_item]Sichere Behandlung polytraumatis
 ierter Patientinnen und Patienten (z.B. Anlage von Thoraxdrainagen\, Konio
 tomie\, Beckenschlingen und intraossärer Zugang)[/fusion_li_item][fusion_
 li_item]Einführung in die Befundungstechnik von Notfallröntgen und CT-Au
 fnahmen[/fusion_li_item][fusion_li_item]Leitung eines Traumateams[/fusion_
 li_item][fusion_li_item]Rollenverteilung innerhalb des Traumateams[/fusion
 _li_item][/fusion_checklist][fusion_title title_type="text" scroll_reveal_
 effect="color_change" scroll_reveal_basis="chars" scroll_reveal_behavior="
 always" scroll_reveal_duration="500" scroll_reveal_stagger="200" scroll_re
 veal_delay="0" scroll_reveal_above_fold="yes" marquee_direction="left" mar
 quee_mask_edges="no" marquee_speed="15000" rotation_effect="bounceIn" disp
 lay_time="1200" highlight_effect="circle" loop_animation="once" highlight_
 animation_duration="1500" highlight_width="9" highlight_smudge_effect="no"
  highlight_top_margin="0" title_link="off" link_target="_self" hide_on_mob
 ile="small-visibility\,medium-visibility\,large-visibility" sticky_display
 ="normal\,sticky" html_attributes="W10=" content_align="left" size="3" tex
 t_shadow="no" text_shadow_blur="0" text_stroke="no" text_stroke_size="1" t
 ext_overflow="none" gradient_font="no" gradient_start_position="0" gradien
 t_end_position="100" gradient_type="linear" radial_direction="center cente
 r" linear_angle="180" style_type="default" animation_direction="left" anim
 ation_speed="0.3" animation_delay="0"]\n\nFür wen ist der ETC geeignet?\n
 \n[/fusion_title][fusion_text disable_idd="no" hide_on_mobile="small-visib
 ility\,medium-visibility\,large-visibility" sticky_display="normal\,sticky
 " html_attributes="W10=" animation_direction="left" animation_speed="0.3" 
 animation_delay="0"]\n\nDer Kurs richtet sich an alle\, die in der Akut- u
 nd Notfallversorgung tätig sind – insbesondere:\n\n 	Ärztinnen und Är
 zte\n 	Pflegefachpersonen aus dem Bereich Notaufnahme und Anästhesie\n 	N
 otfallsanitäterinnen und -sanitäter\n 	Rettungsassistentinnen und -assis
 tenten\n\n[/fusion_text][fusion_title title_type="text" scroll_reveal_effe
 ct="color_change" scroll_reveal_basis="chars" scroll_reveal_behavior="alwa
 ys" scroll_reveal_duration="500" scroll_reveal_stagger="200" scroll_reveal
 _delay="0" scroll_reveal_above_fold="yes" marquee_direction="left" marquee
 _mask_edges="no" marquee_speed="15000" rotation_effect="bounceIn" display_
 time="1200" highlight_effect="circle" loop_animation="once" highlight_anim
 ation_duration="1500" highlight_width="9" highlight_smudge_effect="no" hig
 hlight_top_margin="0" title_link="off" link_target="_self" hide_on_mobile=
 "small-visibility\,medium-visibility\,large-visibility" sticky_display="no
 rmal\,sticky" content_align="left" size="3" text_shadow="no" text_shadow_b
 lur="0" text_stroke="no" text_stroke_size="1" text_overflow="none" margin_
 bottom=".5em" gradient_font="no" gradient_start_position="0" gradient_end_
 position="100" gradient_type="linear" radial_direction="center center" lin
 ear_angle="180" style_type="default" animation_direction="left" animation_
 speed="0.3" animation_delay="0"]\n\nHinweis\n\n[/fusion_title][fusion_text
  disable_idd="no" hide_on_mobile="small-visibility\,medium-visibility\,lar
 ge-visibility" sticky_display="normal\,sticky" html_attributes="W10=" anim
 ation_direction="left" animation_speed="0.3" animation_delay="0"]\n\nUnser
 e Stornobedingungen entnehmen Sie bitte den AGB.\n\n[/fusion_text][/fusion
 _builder_column][/fusion_builder_row][/fusion_builder_container][fusion_bu
 ilder_container type="flex" hundred_percent="no" hundred_percent_height="n
 o" hundred_percent_height_scroll="no" align_content="stretch" flex_align_i
 tems="flex-start" flex_justify_content="flex-start" flex_wrap="wrap" hundr
 ed_percent_height_center_content="yes" equal_height_columns="no" container
 _tag="div" hide_on_mobile="small-visibility\,medium-visibility\,large-visi
 bility" status="published" border_style="solid" box_shadow="no" box_shadow
 _blur="0" box_shadow_spread="0" gradient_start_position="0" gradient_end_p
 osition="100" gradient_type="linear" radial_direction="center center" line
 ar_angle="180" background_position="center center" background_repeat="no-r
 epeat" fade="no" background_parallax="none" enable_mobile="no" parallax_sp
 eed="0.3" background_blend_mode="none" background_slider_skip_lazy_loading
 ="no" background_slider_loop="yes" background_slider_pause_on_hover="no" b
 ackground_slider_slideshow_speed="5000" background_slider_animation="fade"
  background_slider_direction="up" background_slider_animation_speed="800" 
 video_aspect_ratio="16:9" video_loop="yes" video_mute="yes" pattern_bg="no
 ne" pattern_bg_style="default" pattern_bg_opacity="100" pattern_bg_blend_m
 ode="normal" mask_bg="none" mask_bg_style="default" mask_bg_opacity="100" 
 mask_bg_transform="left" mask_bg_blend_mode="normal" absolute="off" absolu
 te_devices="small\,medium\,large" sticky="off" sticky_devices="small-visib
 ility\,medium-visibility\,large-visibility" sticky_transition_offset="0" s
 croll_offset="0" animation_direction="left" animation_speed="0.3" animatio
 n_delay="0" filter_hue="0" filter_saturation="100" filter_brightness="100"
  filter_contrast="100" filter_invert="0" filter_sepia="0" filter_opacity="
 100" filter_blur="0" filter_hue_hover="0" filter_saturation_hover="100" fi
 lter_brightness_hover="100" filter_contrast_hover="100" filter_invert_hove
 r="0" filter_sepia_hover="0" filter_opacity_hover="100" filter_blur_hover=
 "0"][fusion_builder_row][fusion_builder_column type="1_4" layout="1_1" ali
 gn_self="auto" content_layout="column" align_content="flex-start" valign_c
 ontent="flex-start" content_wrap="wrap" center_content="no" column_tag="di
 v" target="_self" hide_on_mobile="small-visibility\,medium-visibility\,lar
 ge-visibility" sticky_display="normal\,sticky" order_medium="0" order_smal
 l="0" hover_type="none" border_style="solid" box_shadow="no" box_shadow_bl
 ur="0" box_shadow_spread="0" background_type="single" gradient_start_posit
 ion="0" gradient_end_position="100" gradient_type="linear" radial_directio
 n="center center" linear_angle="180" lazy_load="avada" background_position
 ="left top" background_repeat="no-repeat" background_blend_mode="none" bac
 kground_slider_skip_lazy_loading="no" background_slider_loop="yes" backgro
 und_slider_pause_on_hover="no" background_slider_slideshow_speed="5000" ba
 ckground_slider_animation="fade" background_slider_direction="up" backgrou
 nd_slider_animation_speed="800" sticky="off" sticky_devices="small-visibil
 ity\,medium-visibility\,large-visibility" absolute="off" filter_type="regu
 lar" filter_hover_element="self" filter_hue="0" filter_saturation="100" fi
 lter_brightness="100" filter_contrast="100" filter_invert="0" filter_sepia
 ="0" filter_opacity="100" filter_blur="0" filter_hue_hover="0" filter_satu
 ration_hover="100" filter_brightness_hover="100" filter_contrast_hover="10
 0" filter_invert_hover="0" filter_sepia_hover="0" filter_opacity_hover="10
 0" filter_blur_hover="0" transform_type="regular" transform_hover_element=
 "self" transform_scale_x="1" transform_scale_y="1" transform_translate_x="
 0" transform_translate_y="0" transform_rotate="0" transform_skew_x="0" tra
 nsform_skew_y="0" transform_scale_x_hover="1" transform_scale_y_hover="1" 
 transform_translate_x_hover="0" transform_translate_y_hover="0" transform_
 rotate_hover="0" transform_skew_x_hover="0" transform_skew_y_hover="0" tra
 nsition_duration="300" transition_easing="ease" scroll_motion_devices="sma
 ll-visibility\,medium-visibility\,large-visibility" animation_direction="l
 eft" animation_speed="0.3" animation_delay="0" last="false" border_positio
 n="all" first="true"][fusion_button link="https://klinikum-ingolstadt.de/i
 nterprofessionelles-simulations-und-weiterbildungszentrum-isi/#toc_Kontakt
 _Anfahrt" target="_self" aria_role_button="0" hide_on_mobile="small-visibi
 lity\,medium-visibility\,large-visibility" sticky_display="normal\,sticky"
  color="default" stretch="default" icon_position="left" icon_divider="no" 
 hover_transition="none" animation_direction="left" animation_speed="0.3" a
 nimation_delay="0"]Kontakt &amp\; Anfahrt[/fusion_button][/fusion_builder_
 column][fusion_builder_column type="1_4" layout="1_1" align_self="auto" co
 ntent_layout="column" align_content="flex-start" valign_content="flex-star
 t" content_wrap="wrap" center_content="no" column_tag="div" target="_self"
  hide_on_mobile="small-visibility\,medium-visibility\,large-visibility" st
 icky_display="normal\,sticky" order_medium="0" order_small="0" hover_type=
 "none" border_style="solid" box_shadow="no" box_shadow_blur="0" box_shadow
 _spread="0" background_type="single" gradient_start_position="0" gradient_
 end_position="100" gradient_type="linear" radial_direction="center center"
  linear_angle="180" lazy_load="avada" background_position="left top" backg
 round_repeat="no-repeat" background_blend_mode="none" background_slider_sk
 ip_lazy_loading="no" background_slider_loop="yes" background_slider_pause_
 on_hover="no" background_slider_slideshow_speed="5000" background_slider_a
 nimation="fade" background_slider_direction="up" background_slider_animati
 on_speed="800" sticky="off" sticky_devices="small-visibility\,medium-visib
 ility\,large-visibility" absolute="off" filter_type="regular" filter_hover
 _element="self" filter_hue="0" filter_saturation="100" filter_brightness="
 100" filter_contrast="100" filter_invert="0" filter_sepia="0" filter_opaci
 ty="100" filter_blur="0" filter_hue_hover="0" filter_saturation_hover="100
 " filter_brightness_hover="100" filter_contrast_hover="100" filter_invert_
 hover="0" filter_sepia_hover="0" filter_opacity_hover="100" filter_blur_ho
 ver="0" transform_type="regular" transform_hover_element="self" transform_
 scale_x="1" transform_scale_y="1" transform_translate_x="0" transform_tran
 slate_y="0" transform_rotate="0" transform_skew_x="0" transform_skew_y="0"
  transform_scale_x_hover="1" transform_scale_y_hover="1" transform_transla
 te_x_hover="0" transform_translate_y_hover="0" transform_rotate_hover="0" 
 transform_skew_x_hover="0" transform_skew_y_hover="0" transition_duration=
 "300" transition_easing="ease" scroll_motion_devices="small-visibility\,me
 dium-visibility\,large-visibility" animation_direction="left" animation_sp
 eed="0.3" animation_delay="0" last="true" border_position="all" first="fal
 se"][fusion_button link="https://klinikum-ingolstadt.de/interprofessionell
 es-simulations-und-weiterbildungszentrum-isi/#isi-agbs" target="_self" ari
 a_role_button="0" hide_on_mobile="small-visibility\,medium-visibility\,lar
 ge-visibility" sticky_display="normal\,sticky" color="default" stretch="de
 fault" icon_position="left" icon_divider="no" hover_transition="none" anim
 ation_direction="left" animation_speed="0.3" animation_delay="0"]AGBs[/fus
 ion_button][/fusion_builder_column][/fusion_builder_row][/fusion_builder_c
 ontainer]
ATTACH;FMTTYPE=image/jpeg:https://klinikum-ingolstadt.de/wp-content/upload
 s/IMG_2323_Hauptbild-scaled.jpg
CATEGORIES:Fachveranstaltungen,ISI
END:VEVENT
BEGIN:VTIMEZONE
TZID:Europe/Berlin
X-LIC-LOCATION:Europe/Berlin
BEGIN:STANDARD
DTSTART:20261025T020000
TZOFFSETFROM:+0200
TZOFFSETTO:+0100
TZNAME:CET
END:STANDARD
END:VTIMEZONE
END:VCALENDAR