BEGIN:VCALENDAR
VERSION:2.0
PRODID:-//wp-events-plugin.com//7.2.3.1//EN
TZID:Europe/Berlin
X-WR-TIMEZONE:Europe/Berlin
BEGIN:VEVENT
UID:665@klinikum-ingolstadt.de
DTSTART;TZID=Europe/Berlin:20261113T080000
DTEND;TZID=Europe/Berlin:20261115T180000
DTSTAMP:20260414T131947Z
URL:https://klinikum-ingolstadt.de/veranstaltungen/european-trauma-course-
 etc-tsp-13-11-15-11-2026-2/
SUMMARY:European Trauma Course (ETC) TSP 13.11. - 15.11.2026
DESCRIPTION:[fusion_builder_container type="flex" hundred_percent="no" hund
 red_percent_height="no" hundred_percent_height_scroll="no" align_content="
 stretch" flex_align_items="flex-start" flex_justify_content="flex-start" f
 lex_wrap="wrap" hundred_percent_height_center_content="yes" equal_height_c
 olumns="no" container_tag="div" hide_on_mobile="small-visibility\,medium-v
 isibility\,large-visibility" status="published" border_style="solid" box_s
 hadow="no" box_shadow_blur="0" box_shadow_spread="0" gradient_start_positi
 on="0" gradient_end_position="100" gradient_type="linear" radial_direction
 ="center center" linear_angle="180" background_position="center center" ba
 ckground_repeat="no-repeat" fade="no" background_parallax="none" enable_mo
 bile="no" parallax_speed="0.3" background_blend_mode="none" background_sli
 der_skip_lazy_loading="no" background_slider_random_order="no" background_
 slider_loop="yes" background_slider_pause_on_hover="no" background_slider_
 slideshow_speed="5000" background_slider_animation="fade" background_slide
 r_direction="up" background_slider_animation_speed="800" video_aspect_rati
 o="16:9" video_loop="yes" video_mute="yes" pattern_bg="none" pattern_bg_st
 yle="default" pattern_bg_opacity="100" pattern_bg_blend_mode="normal" mask
 _bg="none" mask_bg_style="default" mask_bg_opacity="100" mask_bg_transform
 ="left" mask_bg_blend_mode="normal" absolute="off" absolute_devices="small
 \,medium\,large" sticky="off" sticky_devices="small-visibility\,medium-vis
 ibility\,large-visibility" sticky_transition_offset="0" scroll_offset="0" 
 animation_direction="left" animation_speed="0.3" animation_delay="0" filte
 r_hue="0" filter_saturation="100" filter_brightness="100" filter_contrast=
 "100" filter_invert="0" filter_sepia="0" filter_opacity="100" filter_blur=
 "0" filter_hue_hover="0" filter_saturation_hover="100" filter_brightness_h
 over="100" filter_contrast_hover="100" filter_invert_hover="0" filter_sepi
 a_hover="0" filter_opacity_hover="100" filter_blur_hover="0"][fusion_build
 er_row][fusion_builder_column type="1_2" layout="1_2" align_self="auto" co
 ntent_layout="column" align_content="flex-start" valign_content="flex-star
 t" content_wrap="wrap" center_content="no" column_tag="div" target="_self"
  hide_on_mobile="small-visibility\,medium-visibility\,large-visibility" st
 icky_display="normal\,sticky" order_medium="0" order_small="0" hover_type=
 "none" border_style="solid" box_shadow="no" box_shadow_blur="0" box_shadow
 _spread="0" background_type="single" gradient_start_position="0" gradient_
 end_position="100" gradient_type="linear" radial_direction="center center"
  linear_angle="180" lazy_load="avada" background_position="left top" backg
 round_repeat="no-repeat" background_blend_mode="none" background_slider_sk
 ip_lazy_loading="no" background_slider_random_order="no" background_slider
 _loop="yes" background_slider_pause_on_hover="no" background_slider_slides
 how_speed="5000" background_slider_animation="fade" background_slider_dire
 ction="up" background_slider_animation_speed="800" sticky="off" sticky_dev
 ices="small-visibility\,medium-visibility\,large-visibility" absolute="off
 " filter_type="regular" filter_hover_element="self" filter_hue="0" filter_
 saturation="100" filter_brightness="100" filter_contrast="100" filter_inve
 rt="0" filter_sepia="0" filter_opacity="100" filter_blur="0" filter_hue_ho
 ver="0" filter_saturation_hover="100" filter_brightness_hover="100" filter
 _contrast_hover="100" filter_invert_hover="0" filter_sepia_hover="0" filte
 r_opacity_hover="100" filter_blur_hover="0" transform_type="regular" trans
 form_hover_element="self" transform_scale_x="1" transform_scale_y="1" tran
 sform_translate_x="0" transform_translate_y="0" transform_rotate="0" trans
 form_skew_x="0" transform_skew_y="0" transform_scale_x_hover="1" transform
 _scale_y_hover="1" transform_translate_x_hover="0" transform_translate_y_h
 over="0" transform_rotate_hover="0" transform_skew_x_hover="0" transform_s
 kew_y_hover="0" transition_duration="300" transition_easing="ease" scroll_
 motion_devices="small-visibility\,medium-visibility\,large-visibility" ani
 mation_direction="left" animation_speed="0.3" animation_delay="0" last="fa
 lse" border_position="all" first="true"][fusion_button link="https://isi.k
 linikum-ingolstadt.de/#/events/99cceed5-c326-4468-9a4b-205d32f43ad1" enabl
 e_hover_text_icon="no" target="_self" aria_role_button="0" hide_on_mobile=
 "small-visibility\,medium-visibility\,large-visibility" sticky_display="no
 rmal\,sticky" html_attributes="W10=" color="default" type="3d" size="xlarg
 e" stretch="default" margin_top="5%" margin_right="5%" margin_bottom="5%" 
 margin_left="5%" icon="fa-arrow-right fas" icon_position="right" icon_divi
 der="no" hover_transition="none" animation_direction="left" animation_spee
 d="0.3" animation_delay="0"]Anmeldung ETC TSP 13.11. - 15.11.2026[/fusion_
 button][fusion_text disable_idd="no" hide_on_mobile="small-visibility\,med
 ium-visibility\,large-visibility" sticky_display="normal\,sticky" html_att
 ributes="W10=" animation_direction="left" animation_speed="0.3" animation_
 delay="0"]Der European Trauma Course (ETC) ist ein europaweit etabliertes\
 , hochmodernes Ausbildungskonzept für die strukturierte Versorgung von sc
 hwerverletzten Patientinnen und Patienten im Schockraum. Im Mittelpunkt st
 eht dabei nicht nur das medizinische Fachwissen\, sondern vor allem effekt
 ive Teamarbeit\, klare Kommunikation und ein reibungsloses Zusammenspiel a
 ller beteiligten Berufsgruppen.\n\nWarum der European Trauma Course?\n\nSc
 hwerverletzte Patient*innen stellen interprofessionelle Teams täglich vor
  komplexe Herausforderungen. Der ETC vermittelt praxisnah und realistisch\
 , wie kritische Situationen sicher\, effizient und koordiniert gemeistert 
 werden können.\n\nRelevanz für die Traumazentrum-Zertifizierung\n\nDer E
 TC ist als Kurs zur Zertifizierung im Trauma Netzwerk anerkannt. Der ETC i
 st zertifiziert durch das European Resuscitation Council\, die European So
 ciety of Anaesthesiology\, die European Society for Trauma and Emergency S
 urgery und die European Society for Emergency Medicine.\n\nKosten:\n300 Eu
 ro für Trauma Support Practitioner - TSP (Pflegefachpersonen und Rettungs
 dienstpersonal)\n\nFür das leibliche Wohl und ausreichend Pausenzeiten wi
 rd gesorgt.[/fusion_text][/fusion_builder_column][fusion_builder_column ty
 pe="1_2" layout="1_2" align_self="auto" content_layout="column" align_cont
 ent="flex-start" valign_content="flex-start" content_wrap="wrap" center_co
 ntent="no" column_tag="div" target="_self" hide_on_mobile="small-visibilit
 y\,medium-visibility\,large-visibility" sticky_display="normal\,sticky" or
 der_medium="0" order_small="0" hover_type="none" border_style="solid" box_
 shadow="no" box_shadow_blur="0" box_shadow_spread="0" background_type="sin
 gle" gradient_start_position="0" gradient_end_position="100" gradient_type
 ="linear" radial_direction="center center" linear_angle="180" lazy_load="a
 vada" background_position="left top" background_repeat="no-repeat" backgro
 und_blend_mode="none" background_slider_skip_lazy_loading="no" background_
 slider_random_order="no" background_slider_loop="yes" background_slider_pa
 use_on_hover="no" background_slider_slideshow_speed="5000" background_slid
 er_animation="fade" background_slider_direction="up" background_slider_ani
 mation_speed="800" sticky="off" sticky_devices="small-visibility\,medium-v
 isibility\,large-visibility" absolute="off" filter_type="regular" filter_h
 over_element="self" filter_hue="0" filter_saturation="100" filter_brightne
 ss="100" filter_contrast="100" filter_invert="0" filter_sepia="0" filter_o
 pacity="100" filter_blur="0" filter_hue_hover="0" filter_saturation_hover=
 "100" filter_brightness_hover="100" filter_contrast_hover="100" filter_inv
 ert_hover="0" filter_sepia_hover="0" filter_opacity_hover="100" filter_blu
 r_hover="0" transform_type="regular" transform_hover_element="self" transf
 orm_scale_x="1" transform_scale_y="1" transform_translate_x="0" transform_
 translate_y="0" transform_rotate="0" transform_skew_x="0" transform_skew_y
 ="0" transform_scale_x_hover="1" transform_scale_y_hover="1" transform_tra
 nslate_x_hover="0" transform_translate_y_hover="0" transform_rotate_hover=
 "0" transform_skew_x_hover="0" transform_skew_y_hover="0" transition_durat
 ion="300" transition_easing="ease" scroll_motion_devices="small-visibility
 \,medium-visibility\,large-visibility" animation_direction="left" animatio
 n_speed="0.3" animation_delay="0" last="true" border_position="all" first=
 "false"][fusion_title title_type="text" scroll_reveal_effect="color_change
 " scroll_reveal_basis="chars" scroll_reveal_behavior="always" scroll_revea
 l_duration="500" scroll_reveal_stagger="200" scroll_reveal_delay="0" scrol
 l_reveal_above_fold="yes" marquee_direction="left" marquee_mask_edges="no"
  marquee_speed="15000" rotation_effect="bounceIn" display_time="1200" high
 light_effect="circle" loop_animation="once" highlight_animation_duration="
 1500" highlight_width="9" highlight_smudge_effect="no" highlight_top_margi
 n="0" title_link="off" link_target="_self" hide_on_mobile="small-visibilit
 y\,medium-visibility\,large-visibility" sticky_display="normal\,sticky" ht
 ml_attributes="W10=" content_align="left" size="3" text_shadow="no" text_s
 hadow_blur="0" text_stroke="no" text_stroke_size="1" text_overflow="none" 
 gradient_font="no" gradient_start_position="0" gradient_end_position="100"
  gradient_type="linear" radial_direction="center center" linear_angle="180
 " style_type="default" animation_direction="left" animation_speed="0.3" an
 imation_delay="0"]\n\nInhalte\n\n[/fusion_title][fusion_checklist type="ic
 ons" hide_on_mobile="small-visibility\,medium-visibility\,large-visibility
 "][fusion_li_item]Sichere Behandlung polytraumatisierter Patientinnen und 
 Patienten (z.B. Anlage von Thoraxdrainagen\, Koniotomie\, Beckenschlingen 
 und intraossärer Zugang)[/fusion_li_item][fusion_li_item]Einführung in d
 ie Befundungstechnik von Notfallröntgen und CT-Aufnahmen[/fusion_li_item]
 [fusion_li_item]Leitung eines Traumateams[/fusion_li_item][fusion_li_item]
 Rollenverteilung innerhalb des Traumateams[/fusion_li_item][/fusion_checkl
 ist][fusion_title title_type="text" scroll_reveal_effect="color_change" sc
 roll_reveal_basis="chars" scroll_reveal_behavior="always" scroll_reveal_du
 ration="500" scroll_reveal_stagger="200" scroll_reveal_delay="0" scroll_re
 veal_above_fold="yes" marquee_direction="left" marquee_mask_edges="no" mar
 quee_speed="15000" rotation_effect="bounceIn" display_time="1200" highligh
 t_effect="circle" loop_animation="once" highlight_animation_duration="1500
 " highlight_width="9" highlight_smudge_effect="no" highlight_top_margin="0
 " title_link="off" link_target="_self" hide_on_mobile="small-visibility\,m
 edium-visibility\,large-visibility" sticky_display="normal\,sticky" html_a
 ttributes="W10=" content_align="left" size="3" text_shadow="no" text_shado
 w_blur="0" text_stroke="no" text_stroke_size="1" text_overflow="none" grad
 ient_font="no" gradient_start_position="0" gradient_end_position="100" gra
 dient_type="linear" radial_direction="center center" linear_angle="180" st
 yle_type="default" animation_direction="left" animation_speed="0.3" animat
 ion_delay="0"]\n\nFür wen ist der ETC geeignet?\n\n[/fusion_title][fusion
 _text disable_idd="no" hide_on_mobile="small-visibility\,medium-visibility
 \,large-visibility" sticky_display="normal\,sticky" html_attributes="W10="
  animation_direction="left" animation_speed="0.3" animation_delay="0"]\n\n
 Der Kurs richtet sich an alle\, die in der Akut- und Notfallversorgung tä
 tig sind – insbesondere:\n\n 	Ärztinnen und Ärzte\n 	Pflegefachpersone
 n aus dem Bereich Notaufnahme und Anästhesie\n 	Notfallsanitäterinnen un
 d -sanitäter\n 	Rettungsassistentinnen und -assistenten\n\n[/fusion_text]
 [fusion_title title_type="text" scroll_reveal_effect="color_change" scroll
 _reveal_basis="chars" scroll_reveal_behavior="always" scroll_reveal_durati
 on="500" scroll_reveal_stagger="200" scroll_reveal_delay="0" scroll_reveal
 _above_fold="yes" marquee_direction="left" marquee_mask_edges="no" marquee
 _speed="15000" rotation_effect="bounceIn" display_time="1200" highlight_ef
 fect="circle" loop_animation="once" highlight_animation_duration="1500" hi
 ghlight_width="9" highlight_smudge_effect="no" highlight_top_margin="0" ti
 tle_link="off" link_target="_self" hide_on_mobile="small-visibility\,mediu
 m-visibility\,large-visibility" sticky_display="normal\,sticky" content_al
 ign="left" size="3" text_shadow="no" text_shadow_blur="0" text_stroke="no"
  text_stroke_size="1" text_overflow="none" margin_bottom=".5em" gradient_f
 ont="no" gradient_start_position="0" gradient_end_position="100" gradient_
 type="linear" radial_direction="center center" linear_angle="180" style_ty
 pe="default" animation_direction="left" animation_speed="0.3" animation_de
 lay="0"]\n\nHinweis\n\n[/fusion_title][fusion_text disable_idd="no" hide_o
 n_mobile="small-visibility\,medium-visibility\,large-visibility" sticky_di
 splay="normal\,sticky" html_attributes="W10=" animation_direction="left" a
 nimation_speed="0.3" animation_delay="0"]\n\nUnsere Stornobedingungen entn
 ehmen Sie bitte den AGB.\n\n[/fusion_text][/fusion_builder_column][/fusion
 _builder_row][/fusion_builder_container][fusion_builder_container type="fl
 ex" hundred_percent="no" hundred_percent_height="no" hundred_percent_heigh
 t_scroll="no" align_content="stretch" flex_align_items="flex-start" flex_j
 ustify_content="flex-start" flex_wrap="wrap" hundred_percent_height_center
 _content="yes" equal_height_columns="no" container_tag="div" hide_on_mobil
 e="small-visibility\,medium-visibility\,large-visibility" status="publishe
 d" border_style="solid" box_shadow="no" box_shadow_blur="0" box_shadow_spr
 ead="0" gradient_start_position="0" gradient_end_position="100" gradient_t
 ype="linear" radial_direction="center center" linear_angle="180" backgroun
 d_position="center center" background_repeat="no-repeat" fade="no" backgro
 und_parallax="none" enable_mobile="no" parallax_speed="0.3" background_ble
 nd_mode="none" background_slider_skip_lazy_loading="no" background_slider_
 loop="yes" background_slider_pause_on_hover="no" background_slider_slidesh
 ow_speed="5000" background_slider_animation="fade" background_slider_direc
 tion="up" background_slider_animation_speed="800" video_aspect_ratio="16:9
 " video_loop="yes" video_mute="yes" pattern_bg="none" pattern_bg_style="de
 fault" pattern_bg_opacity="100" pattern_bg_blend_mode="normal" mask_bg="no
 ne" mask_bg_style="default" mask_bg_opacity="100" mask_bg_transform="left"
  mask_bg_blend_mode="normal" absolute="off" absolute_devices="small\,mediu
 m\,large" sticky="off" sticky_devices="small-visibility\,medium-visibility
 \,large-visibility" sticky_transition_offset="0" scroll_offset="0" animati
 on_direction="left" animation_speed="0.3" animation_delay="0" filter_hue="
 0" filter_saturation="100" filter_brightness="100" filter_contrast="100" f
 ilter_invert="0" filter_sepia="0" filter_opacity="100" filter_blur="0" fil
 ter_hue_hover="0" filter_saturation_hover="100" filter_brightness_hover="1
 00" filter_contrast_hover="100" filter_invert_hover="0" filter_sepia_hover
 ="0" filter_opacity_hover="100" filter_blur_hover="0"][fusion_builder_row]
 [fusion_builder_column type="1_4" layout="1_1" align_self="auto" content_l
 ayout="column" align_content="flex-start" valign_content="flex-start" cont
 ent_wrap="wrap" center_content="no" column_tag="div" target="_self" hide_o
 n_mobile="small-visibility\,medium-visibility\,large-visibility" sticky_di
 splay="normal\,sticky" order_medium="0" order_small="0" hover_type="none" 
 border_style="solid" box_shadow="no" box_shadow_blur="0" box_shadow_spread
 ="0" background_type="single" gradient_start_position="0" gradient_end_pos
 ition="100" gradient_type="linear" radial_direction="center center" linear
 _angle="180" lazy_load="avada" background_position="left top" background_r
 epeat="no-repeat" background_blend_mode="none" background_slider_skip_lazy
 _loading="no" background_slider_loop="yes" background_slider_pause_on_hove
 r="no" background_slider_slideshow_speed="5000" background_slider_animatio
 n="fade" background_slider_direction="up" background_slider_animation_spee
 d="800" sticky="off" sticky_devices="small-visibility\,medium-visibility\,
 large-visibility" absolute="off" filter_type="regular" filter_hover_elemen
 t="self" filter_hue="0" filter_saturation="100" filter_brightness="100" fi
 lter_contrast="100" filter_invert="0" filter_sepia="0" filter_opacity="100
 " filter_blur="0" filter_hue_hover="0" filter_saturation_hover="100" filte
 r_brightness_hover="100" filter_contrast_hover="100" filter_invert_hover="
 0" filter_sepia_hover="0" filter_opacity_hover="100" filter_blur_hover="0"
  transform_type="regular" transform_hover_element="self" transform_scale_x
 ="1" transform_scale_y="1" transform_translate_x="0" transform_translate_y
 ="0" transform_rotate="0" transform_skew_x="0" transform_skew_y="0" transf
 orm_scale_x_hover="1" transform_scale_y_hover="1" transform_translate_x_ho
 ver="0" transform_translate_y_hover="0" transform_rotate_hover="0" transfo
 rm_skew_x_hover="0" transform_skew_y_hover="0" transition_duration="300" t
 ransition_easing="ease" scroll_motion_devices="small-visibility\,medium-vi
 sibility\,large-visibility" animation_direction="left" animation_speed="0.
 3" animation_delay="0" last="false" border_position="all" first="true"][fu
 sion_button link="https://klinikum-ingolstadt.de/interprofessionelles-simu
 lations-und-weiterbildungszentrum-isi/#toc_Kontakt_Anfahrt" target="_self"
  aria_role_button="0" hide_on_mobile="small-visibility\,medium-visibility\
 ,large-visibility" sticky_display="normal\,sticky" color="default" stretch
 ="default" icon_position="left" icon_divider="no" hover_transition="none" 
 animation_direction="left" animation_speed="0.3" animation_delay="0"]Konta
 kt &amp\; Anfahrt[/fusion_button][/fusion_builder_column][fusion_builder_c
 olumn type="1_4" layout="1_1" align_self="auto" content_layout="column" al
 ign_content="flex-start" valign_content="flex-start" content_wrap="wrap" c
 enter_content="no" column_tag="div" target="_self" hide_on_mobile="small-v
 isibility\,medium-visibility\,large-visibility" sticky_display="normal\,st
 icky" order_medium="0" order_small="0" hover_type="none" border_style="sol
 id" box_shadow="no" box_shadow_blur="0" box_shadow_spread="0" background_t
 ype="single" gradient_start_position="0" gradient_end_position="100" gradi
 ent_type="linear" radial_direction="center center" linear_angle="180" lazy
 _load="avada" background_position="left top" background_repeat="no-repeat"
  background_blend_mode="none" background_slider_skip_lazy_loading="no" bac
 kground_slider_loop="yes" background_slider_pause_on_hover="no" background
 _slider_slideshow_speed="5000" background_slider_animation="fade" backgrou
 nd_slider_direction="up" background_slider_animation_speed="800" sticky="o
 ff" sticky_devices="small-visibility\,medium-visibility\,large-visibility"
  absolute="off" filter_type="regular" filter_hover_element="self" filter_h
 ue="0" filter_saturation="100" filter_brightness="100" filter_contrast="10
 0" filter_invert="0" filter_sepia="0" filter_opacity="100" filter_blur="0"
  filter_hue_hover="0" filter_saturation_hover="100" filter_brightness_hove
 r="100" filter_contrast_hover="100" filter_invert_hover="0" filter_sepia_h
 over="0" filter_opacity_hover="100" filter_blur_hover="0" transform_type="
 regular" transform_hover_element="self" transform_scale_x="1" transform_sc
 ale_y="1" transform_translate_x="0" transform_translate_y="0" transform_ro
 tate="0" transform_skew_x="0" transform_skew_y="0" transform_scale_x_hover
 ="1" transform_scale_y_hover="1" transform_translate_x_hover="0" transform
 _translate_y_hover="0" transform_rotate_hover="0" transform_skew_x_hover="
 0" transform_skew_y_hover="0" transition_duration="300" transition_easing=
 "ease" scroll_motion_devices="small-visibility\,medium-visibility\,large-v
 isibility" animation_direction="left" animation_speed="0.3" animation_dela
 y="0" last="true" border_position="all" first="false"][fusion_button link=
 "https://klinikum-ingolstadt.de/interprofessionelles-simulations-und-weite
 rbildungszentrum-isi/#isi-agbs" target="_self" aria_role_button="0" hide_o
 n_mobile="small-visibility\,medium-visibility\,large-visibility" sticky_di
 splay="normal\,sticky" color="default" stretch="default" icon_position="le
 ft" icon_divider="no" hover_transition="none" animation_direction="left" a
 nimation_speed="0.3" animation_delay="0"]AGBs[/fusion_button][/fusion_buil
 der_column][/fusion_builder_row][/fusion_builder_container]
ATTACH;FMTTYPE=image/jpeg:https://klinikum-ingolstadt.de/wp-content/upload
 s/IMG_2323_Hauptbild-scaled.jpg
CATEGORIES:Fachveranstaltungen,ISI
END:VEVENT
BEGIN:VTIMEZONE
TZID:Europe/Berlin
X-LIC-LOCATION:Europe/Berlin
BEGIN:STANDARD
DTSTART:20261025T020000
TZOFFSETFROM:+0200
TZOFFSETTO:+0100
TZNAME:CET
END:STANDARD
END:VTIMEZONE
END:VCALENDAR