BEGIN:VCALENDAR
VERSION:2.0
PRODID:-//wp-events-plugin.com//7.2.3.1//EN
TZID:Europe/Berlin
X-WR-TIMEZONE:Europe/Berlin
BEGIN:VEVENT
UID:682@klinikum-ingolstadt.de
DTSTART;TZID=Europe/Berlin:20260428T000000
DTEND;TZID=Europe/Berlin:20260430T235900
DTSTAMP:20260326T140908Z
URL:https://klinikum-ingolstadt.de/veranstaltungen/fit-fuer-die-piste/
SUMMARY:Fit für die Piste
DESCRIPTION:[fusion_builder_container type="flex" hundred_percent="no" hund
 red_percent_height="no" hundred_percent_height_scroll="no" align_content="
 stretch" flex_align_items="flex-start" flex_justify_content="flex-start" f
 lex_wrap="wrap" hundred_percent_height_center_content="yes" equal_height_c
 olumns="no" container_tag="div" hide_on_mobile="small-visibility\,medium-v
 isibility\,large-visibility" status="published" border_style="solid" box_s
 hadow="no" box_shadow_blur="0" box_shadow_spread="0" gradient_start_positi
 on="0" gradient_end_position="100" gradient_type="linear" radial_direction
 ="center center" linear_angle="180" background_position="center center" ba
 ckground_repeat="no-repeat" fade="no" background_parallax="none" enable_mo
 bile="no" parallax_speed="0.3" background_blend_mode="none" background_sli
 der_skip_lazy_loading="no" background_slider_random_order="no" background_
 slider_loop="yes" background_slider_pause_on_hover="no" background_slider_
 slideshow_speed="5000" background_slider_animation="fade" background_slide
 r_direction="up" background_slider_animation_speed="800" video_aspect_rati
 o="16:9" video_loop="yes" video_mute="yes" pattern_bg="none" pattern_bg_st
 yle="default" pattern_bg_opacity="100" pattern_bg_blend_mode="normal" mask
 _bg="none" mask_bg_style="default" mask_bg_opacity="100" mask_bg_transform
 ="left" mask_bg_blend_mode="normal" absolute="off" absolute_devices="small
 \,medium\,large" sticky="off" sticky_devices="small-visibility\,medium-vis
 ibility\,large-visibility" sticky_transition_offset="0" scroll_offset="0" 
 animation_direction="left" animation_speed="0.3" animation_delay="0" filte
 r_hue="0" filter_saturation="100" filter_brightness="100" filter_contrast=
 "100" filter_invert="0" filter_sepia="0" filter_opacity="100" filter_blur=
 "0" filter_hue_hover="0" filter_saturation_hover="100" filter_brightness_h
 over="100" filter_contrast_hover="100" filter_invert_hover="0" filter_sepi
 a_hover="0" filter_opacity_hover="100" filter_blur_hover="0"][fusion_build
 er_row][fusion_builder_column type="1_2" layout="1_2" align_self="auto" co
 ntent_layout="column" align_content="flex-start" valign_content="flex-star
 t" content_wrap="wrap" center_content="no" column_tag="div" target="_self"
  hide_on_mobile="small-visibility\,medium-visibility\,large-visibility" st
 icky_display="normal\,sticky" order_medium="0" order_small="0" hover_type=
 "none" border_style="solid" box_shadow="no" box_shadow_blur="0" box_shadow
 _spread="0" background_type="single" gradient_start_position="0" gradient_
 end_position="100" gradient_type="linear" radial_direction="center center"
  linear_angle="180" lazy_load="avada" background_position="left top" backg
 round_repeat="no-repeat" background_blend_mode="none" background_slider_sk
 ip_lazy_loading="no" background_slider_random_order="no" background_slider
 _loop="yes" background_slider_pause_on_hover="no" background_slider_slides
 how_speed="5000" background_slider_animation="fade" background_slider_dire
 ction="up" background_slider_animation_speed="800" sticky="off" sticky_dev
 ices="small-visibility\,medium-visibility\,large-visibility" absolute="off
 " filter_type="regular" filter_hover_element="self" filter_hue="0" filter_
 saturation="100" filter_brightness="100" filter_contrast="100" filter_inve
 rt="0" filter_sepia="0" filter_opacity="100" filter_blur="0" filter_hue_ho
 ver="0" filter_saturation_hover="100" filter_brightness_hover="100" filter
 _contrast_hover="100" filter_invert_hover="0" filter_sepia_hover="0" filte
 r_opacity_hover="100" filter_blur_hover="0" transform_type="regular" trans
 form_hover_element="self" transform_scale_x="1" transform_scale_y="1" tran
 sform_translate_x="0" transform_translate_y="0" transform_rotate="0" trans
 form_skew_x="0" transform_skew_y="0" transform_scale_x_hover="1" transform
 _scale_y_hover="1" transform_translate_x_hover="0" transform_translate_y_h
 over="0" transform_rotate_hover="0" transform_skew_x_hover="0" transform_s
 kew_y_hover="0" transition_duration="300" transition_easing="ease" scroll_
 motion_devices="small-visibility\,medium-visibility\,large-visibility" ani
 mation_direction="left" animation_speed="0.3" animation_delay="0" last="fa
 lse" border_position="all" first="true"][fusion_text disable_idd="no" hide
 _on_mobile="small-visibility\,medium-visibility\,large-visibility" sticky_
 display="normal\,sticky" html_attributes="W10=" animation_direction="left"
  animation_speed="0.3" animation_delay="0"]\n\nSehr geehrte Damen und Herr
 en\,\nSehr geehrte Interessierte\,\n\ndas Klinikum Ingolstadt freut sich\,
  als neuer offizieller Gesundheitspartner des Bayerischen Skiverbands (BSV
 ) einen wichtigen Beitrag zur medizinischen Versorgung und Prävention im 
 Wintersport zu leisten. Wir möchten zusammen unter dem Motto „Gemeinsam
  für mehr Gesundheit im Wintersport“\, Athletinnen und Athleten sowie a
 lle Wintersportbegeisterten bestmöglich unterstützen und unsere Expertis
 e für wintersportspezifische Verletzungen und Erkrankungen einbringen.\nI
 m Zentrum der Kooperation stehen eine schnelle\, kompetente medizinische V
 ersorgung\, individuell abgestimmte Therapieangebote und eine nachhaltige 
 Prävention.\nEin besonderer Schwerpunkt der Partnerschaft ist ein öffent
 lich zugängliches Online-Fortbildungsangebot. Unsere Expertinnen und Expe
 rten vermitteln darin praxisnahes Wissen rund um Gesundheit\, Unfallpräve
 ntion und den richtigen Umgang mit Verletzungen im Wintersport – verstä
 ndlich\, aktuell und direkt anwendbar.\nWir blicken mit großer Zuversicht
  auf eine langfristige Zusammenarbeit mit dem BSV\, die die Sicherheit und
  Gesundheit im bayerischen Wintersport nachhaltig stärken wird.\n\nMit fr
 eundlichen Grüßen\n\nProf. Dr. Hans-Georg Palm\, MBA\n\n[/fusion_text][/
 fusion_builder_column][fusion_builder_column type="1_2" layout="1_2" align
 _self="auto" content_layout="column" align_content="flex-start" valign_con
 tent="flex-start" content_wrap="wrap" center_content="no" column_tag="div"
  target="_self" hide_on_mobile="small-visibility\,medium-visibility\,large
 -visibility" sticky_display="normal\,sticky" order_medium="0" order_small=
 "0" hover_type="none" border_style="solid" box_shadow="no" box_shadow_blur
 ="0" box_shadow_spread="0" background_type="single" gradient_start_positio
 n="0" gradient_end_position="100" gradient_type="linear" radial_direction=
 "center center" linear_angle="180" lazy_load="avada" background_position="
 left top" background_repeat="no-repeat" background_blend_mode="none" backg
 round_slider_skip_lazy_loading="no" background_slider_random_order="no" ba
 ckground_slider_loop="yes" background_slider_pause_on_hover="no" backgroun
 d_slider_slideshow_speed="5000" background_slider_animation="fade" backgro
 und_slider_direction="up" background_slider_animation_speed="800" sticky="
 off" sticky_devices="small-visibility\,medium-visibility\,large-visibility
 " absolute="off" filter_type="regular" filter_hover_element="self" filter_
 hue="0" filter_saturation="100" filter_brightness="100" filter_contrast="1
 00" filter_invert="0" filter_sepia="0" filter_opacity="100" filter_blur="0
 " filter_hue_hover="0" filter_saturation_hover="100" filter_brightness_hov
 er="100" filter_contrast_hover="100" filter_invert_hover="0" filter_sepia_
 hover="0" filter_opacity_hover="100" filter_blur_hover="0" transform_type=
 "regular" transform_hover_element="self" transform_scale_x="1" transform_s
 cale_y="1" transform_translate_x="0" transform_translate_y="0" transform_r
 otate="0" transform_skew_x="0" transform_skew_y="0" transform_scale_x_hove
 r="1" transform_scale_y_hover="1" transform_translate_x_hover="0" transfor
 m_translate_y_hover="0" transform_rotate_hover="0" transform_skew_x_hover=
 "0" transform_skew_y_hover="0" transition_duration="300" transition_easing
 ="ease" scroll_motion_devices="small-visibility\,medium-visibility\,large-
 visibility" animation_direction="left" animation_speed="0.3" animation_del
 ay="0" last="true" border_position="all" first="false"][fusion_imageframe 
 image_id="20450|full" custom_aspect_ratio="100" lightbox="no" linktarget="
 _self" hide_on_mobile="small-visibility\,medium-visibility\,large-visibili
 ty" sticky_display="normal\,sticky" html_attributes="W10=" align_medium="n
 one" align_small="none" align="none" hover_type="none" magnify_duration="1
 20" scroll_height="100" scroll_speed="1" caption_style="off" caption_align
 _medium="none" caption_align_small="none" caption_align="none" caption_tit
 le_tag="2" animation_direction="left" animation_speed="0.3" animation_dela
 y="0" filter_hue="0" filter_saturation="100" filter_brightness="100" filte
 r_contrast="100" filter_invert="0" filter_sepia="0" filter_opacity="100" f
 ilter_blur="0" filter_hue_hover="0" filter_saturation_hover="100" filter_b
 rightness_hover="100" filter_contrast_hover="100" filter_invert_hover="0" 
 filter_sepia_hover="0" filter_opacity_hover="100" filter_blur_hover="0"]ht
 tps://klinikum-ingolstadt.de/wp-content/uploads/Bild-BSV-Ski-e177184884037
 3.png[/fusion_imageframe][/fusion_builder_column][fusion_builder_column ty
 pe="1_2" layout="1_2" align_self="auto" content_layout="column" align_cont
 ent="flex-start" valign_content="flex-start" content_wrap="wrap" center_co
 ntent="no" column_tag="div" target="_self" hide_on_mobile="small-visibilit
 y\,medium-visibility\,large-visibility" sticky_display="normal\,sticky" or
 der_medium="0" order_small="0" hover_type="none" border_style="solid" box_
 shadow="no" box_shadow_blur="0" box_shadow_spread="0" background_type="sin
 gle" gradient_start_position="0" gradient_end_position="100" gradient_type
 ="linear" radial_direction="center center" linear_angle="180" lazy_load="a
 vada" background_position="left top" background_repeat="no-repeat" backgro
 und_blend_mode="none" background_slider_skip_lazy_loading="no" background_
 slider_random_order="no" background_slider_loop="yes" background_slider_pa
 use_on_hover="no" background_slider_slideshow_speed="5000" background_slid
 er_animation="fade" background_slider_direction="up" background_slider_ani
 mation_speed="800" sticky="off" sticky_devices="small-visibility\,medium-v
 isibility\,large-visibility" absolute="off" filter_type="regular" filter_h
 over_element="self" filter_hue="0" filter_saturation="100" filter_brightne
 ss="100" filter_contrast="100" filter_invert="0" filter_sepia="0" filter_o
 pacity="100" filter_blur="0" filter_hue_hover="0" filter_saturation_hover=
 "100" filter_brightness_hover="100" filter_contrast_hover="100" filter_inv
 ert_hover="0" filter_sepia_hover="0" filter_opacity_hover="100" filter_blu
 r_hover="0" transform_type="regular" transform_hover_element="self" transf
 orm_scale_x="1" transform_scale_y="1" transform_translate_x="0" transform_
 translate_y="0" transform_rotate="0" transform_skew_x="0" transform_skew_y
 ="0" transform_scale_x_hover="1" transform_scale_y_hover="1" transform_tra
 nslate_x_hover="0" transform_translate_y_hover="0" transform_rotate_hover=
 "0" transform_skew_x_hover="0" transform_skew_y_hover="0" transition_durat
 ion="300" transition_easing="ease" scroll_motion_devices="small-visibility
 \,medium-visibility\,large-visibility" animation_direction="left" animatio
 n_speed="0.3" animation_delay="0" last="false" border_position="all" first
 ="true"][fusion_title title_type="text" scroll_reveal_effect="color_change
 " scroll_reveal_basis="chars" scroll_reveal_behavior="always" scroll_revea
 l_duration="500" scroll_reveal_stagger="200" scroll_reveal_delay="0" scrol
 l_reveal_above_fold="yes" marquee_direction="left" marquee_mask_edges="no"
  marquee_speed="15000" rotation_effect="bounceIn" display_time="1200" high
 light_effect="circle" loop_animation="once" highlight_animation_duration="
 1500" highlight_width="9" highlight_smudge_effect="no" highlight_top_margi
 n="0" title_link="off" link_target="_self" hide_on_mobile="small-visibilit
 y\,medium-visibility\,large-visibility" sticky_display="normal\,sticky" ht
 ml_attributes="W10=" content_align="left" size="3" text_shadow="no" text_s
 hadow_blur="0" text_stroke="no" text_stroke_size="1" text_overflow="none" 
 gradient_font="no" gradient_start_position="0" gradient_end_position="100"
  gradient_type="linear" radial_direction="center center" linear_angle="180
 " style_type="default" animation_direction="left" animation_speed="0.3" an
 imation_delay="0"]\n\nVeranstaltungshinweise\n\n[/fusion_title][fusion_tex
 t disable_idd="no" hide_on_mobile="small-visibility\,medium-visibility\,la
 rge-visibility" sticky_display="normal\,sticky" html_attributes="W10=" ani
 mation_direction="left" animation_speed="0.3" animation_delay="0"]\n\nDie 
 Veranstaltung findet ausschließlich online per MS-Teams statt.\nEine Anme
 ldung ist nicht notwendig.\n\n[/fusion_text][/fusion_builder_column][fusio
 n_builder_column type="1_2" layout="1_2" align_self="auto" content_layout=
 "column" align_content="flex-start" valign_content="flex-start" content_wr
 ap="wrap" center_content="no" column_tag="div" target="_self" hide_on_mobi
 le="small-visibility\,medium-visibility\,large-visibility" sticky_display=
 "normal\,sticky" order_medium="0" order_small="0" hover_type="none" border
 _style="solid" box_shadow="no" box_shadow_blur="0" box_shadow_spread="0" b
 ackground_type="single" gradient_start_position="0" gradient_end_position=
 "100" gradient_type="linear" radial_direction="center center" linear_angle
 ="180" lazy_load="avada" background_position="left top" background_repeat=
 "no-repeat" background_blend_mode="none" background_slider_skip_lazy_loadi
 ng="no" background_slider_random_order="no" background_slider_loop="yes" b
 ackground_slider_pause_on_hover="no" background_slider_slideshow_speed="50
 00" background_slider_animation="fade" background_slider_direction="up" ba
 ckground_slider_animation_speed="800" sticky="off" sticky_devices="small-v
 isibility\,medium-visibility\,large-visibility" absolute="off" filter_type
 ="regular" filter_hover_element="self" filter_hue="0" filter_saturation="1
 00" filter_brightness="100" filter_contrast="100" filter_invert="0" filter
 _sepia="0" filter_opacity="100" filter_blur="0" filter_hue_hover="0" filte
 r_saturation_hover="100" filter_brightness_hover="100" filter_contrast_hov
 er="100" filter_invert_hover="0" filter_sepia_hover="0" filter_opacity_hov
 er="100" filter_blur_hover="0" transform_type="regular" transform_hover_el
 ement="self" transform_scale_x="1" transform_scale_y="1" transform_transla
 te_x="0" transform_translate_y="0" transform_rotate="0" transform_skew_x="
 0" transform_skew_y="0" transform_scale_x_hover="1" transform_scale_y_hove
 r="1" transform_translate_x_hover="0" transform_translate_y_hover="0" tran
 sform_rotate_hover="0" transform_skew_x_hover="0" transform_skew_y_hover="
 0" transition_duration="300" transition_easing="ease" scroll_motion_device
 s="small-visibility\,medium-visibility\,large-visibility" animation_direct
 ion="left" animation_speed="0.3" animation_delay="0" last="true" border_po
 sition="all" first="false"][fusion_title title_type="text" scroll_reveal_e
 ffect="color_change" scroll_reveal_basis="chars" scroll_reveal_behavior="a
 lways" scroll_reveal_duration="500" scroll_reveal_stagger="200" scroll_rev
 eal_delay="0" scroll_reveal_above_fold="yes" marquee_direction="left" marq
 uee_mask_edges="no" marquee_speed="15000" rotation_effect="bounceIn" displ
 ay_time="1200" highlight_effect="circle" loop_animation="once" highlight_a
 nimation_duration="1500" highlight_width="9" highlight_smudge_effect="no" 
 highlight_top_margin="0" title_link="off" link_target="_self" hide_on_mobi
 le="small-visibility\,medium-visibility\,large-visibility" sticky_display=
 "normal\,sticky" html_attributes="W10=" content_align="left" size="3" text
 _shadow="no" text_shadow_blur="0" text_stroke="no" text_stroke_size="1" te
 xt_overflow="none" gradient_font="no" gradient_start_position="0" gradient
 _end_position="100" gradient_type="linear" radial_direction="center center
 " linear_angle="180" style_type="default" animation_direction="left" anima
 tion_speed="0.3" animation_delay="0"]\n\nWeitere Informationen finden Sie 
 über unseren Flyer\n\n[/fusion_title][wpfd_file wpfd_selected_file_random
 ="0.6425432234636451" wpfd_selected_category_id_related="254" wpfd_selecte
 d_file_id="20414" wpfd_selected_file_title="Flyer BSV KI Fortbildungen 202
 6"]Flyer BSV KI Fortbildungen 2026[/wpfd_file][/fusion_builder_column][fus
 ion_builder_column type="1_1" layout="1_1" align_self="auto" content_layou
 t="column" align_content="flex-start" valign_content="flex-start" content_
 wrap="wrap" center_content="no" column_tag="div" target="_self" hide_on_mo
 bile="small-visibility\,medium-visibility\,large-visibility" sticky_displa
 y="normal\,sticky" order_medium="0" order_small="0" hover_type="none" bord
 er_style="solid" box_shadow="no" box_shadow_blur="0" box_shadow_spread="0"
  background_type="single" gradient_start_position="0" gradient_end_positio
 n="100" gradient_type="linear" radial_direction="center center" linear_ang
 le="180" lazy_load="avada" background_position="left top" background_repea
 t="no-repeat" background_blend_mode="none" background_slider_skip_lazy_loa
 ding="no" background_slider_random_order="no" background_slider_loop="yes"
  background_slider_pause_on_hover="no" background_slider_slideshow_speed="
 5000" background_slider_animation="fade" background_slider_direction="up" 
 background_slider_animation_speed="800" sticky="off" sticky_devices="small
 -visibility\,medium-visibility\,large-visibility" absolute="off" filter_ty
 pe="regular" filter_hover_element="self" filter_hue="0" filter_saturation=
 "100" filter_brightness="100" filter_contrast="100" filter_invert="0" filt
 er_sepia="0" filter_opacity="100" filter_blur="0" filter_hue_hover="0" fil
 ter_saturation_hover="100" filter_brightness_hover="100" filter_contrast_h
 over="100" filter_invert_hover="0" filter_sepia_hover="0" filter_opacity_h
 over="100" filter_blur_hover="0" transform_type="regular" transform_hover_
 element="self" transform_scale_x="1" transform_scale_y="1" transform_trans
 late_x="0" transform_translate_y="0" transform_rotate="0" transform_skew_x
 ="0" transform_skew_y="0" transform_scale_x_hover="1" transform_scale_y_ho
 ver="1" transform_translate_x_hover="0" transform_translate_y_hover="0" tr
 ansform_rotate_hover="0" transform_skew_x_hover="0" transform_skew_y_hover
 ="0" transition_duration="300" transition_easing="ease" scroll_motion_devi
 ces="small-visibility\,medium-visibility\,large-visibility" animation_dire
 ction="left" animation_speed="0.3" animation_delay="0" last="true" border_
 position="all" first="true"][fusion_title title_type="text" scroll_reveal_
 effect="color_change" scroll_reveal_basis="chars" scroll_reveal_behavior="
 always" scroll_reveal_duration="500" scroll_reveal_stagger="200" scroll_re
 veal_delay="0" scroll_reveal_above_fold="yes" marquee_direction="left" mar
 quee_mask_edges="no" marquee_speed="15000" rotation_effect="bounceIn" disp
 lay_time="1200" highlight_effect="circle" loop_animation="once" highlight_
 animation_duration="1500" highlight_width="9" highlight_smudge_effect="no"
  highlight_top_margin="0" title_link="off" link_target="_self" hide_on_mob
 ile="small-visibility\,medium-visibility\,large-visibility" sticky_display
 ="normal\,sticky" html_attributes="W10=" content_align="left" size="3" tex
 t_shadow="no" text_shadow_blur="0" text_stroke="no" text_stroke_size="1" t
 ext_overflow="none" gradient_font="no" gradient_start_position="0" gradien
 t_end_position="100" gradient_type="linear" radial_direction="center cente
 r" linear_angle="180" style_type="default" animation_direction="left" anim
 ation_speed="0.3" animation_delay="0"]\n\nAnmeldung\n\n[/fusion_title][fus
 ion_text disable_idd="no" hide_on_mobile="small-visibility\,medium-visibil
 ity\,large-visibility" sticky_display="normal\,sticky" html_attributes="W1
 0=" animation_direction="left" animation_speed="0.3" animation_delay="0"]\
 n\n„Die verletzte Wirbelsäule: Wie lässt sie sich schützen und was mu
 ss ich bei Verletzungen beachten?“\nProf. Dr. Thomas Blattert (Leiter de
 s Interdisziplinären Wirbelsäulenzentrums\, Klinikum Ingolstadt)\n\n[/fu
 sion_text][fusion_button link="https://teams.microsoft.com/meet/3347286913
 1348?p=aowIeYSBon0FEEqEcd" enable_hover_text_icon="no" target="_self" aria
 _role_button="0" hide_on_mobile="small-visibility\,medium-visibility\,larg
 e-visibility" sticky_display="normal\,sticky" html_attributes="W10=" color
 ="default" stretch="default" margin_top="-6%" icon_position="left" icon_di
 vider="no" hover_transition="none" animation_direction="left" animation_sp
 eed="0.3" animation_delay="0"]Dienstag\, 28.04.2026\, 18:00 Uhr[/fusion_bu
 tton][fusion_text disable_idd="no" hide_on_mobile="small-visibility\,mediu
 m-visibility\,large-visibility" sticky_display="normal\,sticky" html_attri
 butes="W10=" animation_direction="left" animation_speed="0.3" animation_de
 lay="0"]\n\nBesprechungs-ID: 334 728 691 313 48\nPasscode: fw6jf92e\n\n[/f
 usion_text][fusion_text disable_idd="no" hide_on_mobile="small-visibility\
 ,medium-visibility\,large-visibility" sticky_display="normal\,sticky" html
 _attributes="W10=" margin_top="2%" animation_direction="left" animation_sp
 eed="0.3" animation_delay="0"]\n\n„„Plötzlicher Herztod im Sport: Vor
 beugung und Früherkennung“\nPD Dr. Blerim Luani (Direktor der Klinik f
 ür Kardiologie und internistische Intensivmedizin\, Klinikum Ingolstadt\n
 \n[/fusion_text][fusion_button link="https://teams.microsoft.com/meet/3286
 1338279989?p=KHGOEDDIzmAZNWqGPG" enable_hover_text_icon="no" target="_self
 " aria_role_button="0" hide_on_mobile="small-visibility\,medium-visibility
 \,large-visibility" sticky_display="normal\,sticky" html_attributes="W10="
  color="default" stretch="default" icon_position="left" icon_divider="no" 
 hover_transition="none" animation_direction="left" animation_speed="0.3" a
 nimation_delay="0"]Dienstag\, 30.06.2026\, 18:00 Uhr[/fusion_button][fusio
 n_text disable_idd="no" hide_on_mobile="small-visibility\,medium-visibilit
 y\,large-visibility" sticky_display="normal\,sticky" html_attributes="W10=
 " animation_direction="left" animation_speed="0.3" animation_delay="0"]\n\
 nBesprechungs-ID: 328 613 382 799 89\nPasscode: sm9uo3AT\n\n[/fusion_text]
 [fusion_text disable_idd="no" hide_on_mobile="small-visibility\,medium-vis
 ibility\,large-visibility" sticky_display="normal\,sticky" html_attributes
 ="W10=" margin_top="2%" animation_direction="left" animation_speed="0.3" a
 nimation_delay="0"]\n\n„Kopfverletzungen: Wann in die Klinik und wann zu
 rück auf die Piste?“\nProf. Dr. Siamak Asgari (Direktor der Klinik für
  Neurochirurgie\, Klinikum Ingolstadt)\n\n[/fusion_text][fusion_button lin
 k="https://teams.microsoft.com/meet/33286061012177?p=XD1SnffBpxB5WiEmE4" e
 nable_hover_text_icon="no" target="_self" aria_role_button="0" hide_on_mob
 ile="small-visibility\,medium-visibility\,large-visibility" sticky_display
 ="normal\,sticky" html_attributes="W10=" color="default" stretch="default"
  icon_position="left" icon_divider="no" hover_transition="none" animation_
 direction="left" animation_speed="0.3" animation_delay="0"]Dienstag\, 27.1
 0.2026\, 18:00 Uhr[/fusion_button][fusion_text disable_idd="no" hide_on_mo
 bile="small-visibility\,medium-visibility\,large-visibility" sticky_displa
 y="normal\,sticky" html_attributes="W10=" animation_direction="left" anima
 tion_speed="0.3" animation_delay="0"]\n\nBesprechungs-ID: 332 860 610 121 
 77\nPasscode: pV6bc7Ze\n\n[/fusion_text][fusion_text disable_idd="no" hide
 _on_mobile="small-visibility\,medium-visibility\,large-visibility" sticky_
 display="normal\,sticky" html_attributes="W10=" margin_top="2%" animation_
 direction="left" animation_speed="0.3" animation_delay="0"]\n\n„Verletzu
 ngen der Extremitäten im Wintersport: Worauf kommt es im Notfall an?“\n
 Marco Marchich (Geschäftsführender Oberarzt im Zentrum für Orthopädie 
 und Unfallchirurgie\, Klinikum Ingolstadt)\n\n[/fusion_text][fusion_button
  link="https://teams.microsoft.com/meet/3100301904879?p=xxM0RQcyYoToLrhi12
 " enable_hover_text_icon="no" target="_self" aria_role_button="0" hide_on_
 mobile="small-visibility\,medium-visibility\,large-visibility" sticky_disp
 lay="normal\,sticky" html_attributes="W10=" color="default" stretch="defau
 lt" icon_position="left" icon_divider="no" hover_transition="none" animati
 on_direction="left" animation_speed="0.3" animation_delay="0"]Dienstag\, 2
 9.12.2026\, 18:00 Uhr[/fusion_button][fusion_text disable_idd="no" hide_on
 _mobile="small-visibility\,medium-visibility\,large-visibility" sticky_dis
 play="normal\,sticky" html_attributes="W10=" animation_direction="left" an
 imation_speed="0.3" animation_delay="0"]\n\nBesprechungs-ID: 310 030 190 4
 87 9\nPasscode: 5SP2Rs7o\n\n[/fusion_text][/fusion_builder_column][/fusion
 _builder_row][/fusion_builder_container]
ATTACH;FMTTYPE=image/jpeg:https://klinikum-ingolstadt.de/wp-content/upload
 s/Bild-BSV-Ski-e1771848840373.png
CATEGORIES:Patientenveranstaltungen
END:VEVENT
BEGIN:VTIMEZONE
TZID:Europe/Berlin
X-LIC-LOCATION:Europe/Berlin
BEGIN:DAYLIGHT
DTSTART:20260329T030000
TZOFFSETFROM:+0100
TZOFFSETTO:+0200
TZNAME:CEST
END:DAYLIGHT
END:VTIMEZONE
END:VCALENDAR