BEGIN:VCALENDAR
VERSION:2.0
PRODID:-//wp-events-plugin.com//7.2.3.1//EN
TZID:Europe/Berlin
X-WR-TIMEZONE:Europe/Berlin
BEGIN:VEVENT
UID:701@klinikum-ingolstadt.de
DTSTART;TZID=Europe/Berlin:20260506T150000
DTEND;TZID=Europe/Berlin:20260506T163000
DTSTAMP:20260331T124852Z
URL:https://klinikum-ingolstadt.de/veranstaltungen/gewalt-an-kinder-erkenn
 en-und-bewusst-handeln-nur-fuer-mitarbeitende-der-klinikum-ingolstadt-gmbh
 -2/
SUMMARY:Gewalt an Kinder erkennen und bewusst Handeln (nur für Mitarbeiten
 de der Klinikum Ingolstadt GmbH)
DESCRIPTION:In dieser Schulung werden rechtliche Grundlagen des Kinderschut
 zes erörtert. Auffällige Verletzungsmuster werden gezeigt und besprochen
 .\n\nReferent:\n\nDr. med. Micha Bahr\, Klinikdirektor der Kinder- u. Jug
 endchirurgie
CATEGORIES:Ärztlicher Dienst,Interne Fortbildungen,Pflegedienst
LOCATION:Raum Ingolstadt im MVZ\, Levelingstraße 21\, Ingolstadt\, Bayern\
 , 85049 \, Deutschland
GEO:48.771148;11.377333
X-APPLE-STRUCTURED-LOCATION;VALUE=URI;X-ADDRESS=Levelingstraße 21\, Ingols
 tadt\, Bayern\, 85049 \, Deutschland;X-APPLE-RADIUS=100;X-TITLE=Raum Ingol
 stadt im MVZ:geo:48.771148,11.377333
END:VEVENT
BEGIN:VTIMEZONE
TZID:Europe/Berlin
X-LIC-LOCATION:Europe/Berlin
BEGIN:DAYLIGHT
DTSTART:20260329T030000
TZOFFSETFROM:+0100
TZOFFSETTO:+0200
TZNAME:CEST
END:DAYLIGHT
END:VTIMEZONE
END:VCALENDAR