BEGIN:VCALENDAR
VERSION:2.0
PRODID:-//wp-events-plugin.com//7.2.3.1//EN
TZID:Europe/Berlin
X-WR-TIMEZONE:Europe/Berlin
BEGIN:VEVENT
UID:704@klinikum-ingolstadt.de
DTSTART;TZID=Europe/Berlin:20260520T170000
DTEND;TZID=Europe/Berlin:20260520T200000
DTSTAMP:20260420T135428Z
URL:https://klinikum-ingolstadt.de/veranstaltungen/ingolstaedter-immunolog
 ietag-2026/
SUMMARY:Ingolstädter Immunologietag 20.05.2026
DESCRIPTION:[fusion_builder_container type="flex" hundred_percent="no" equa
 l_height_columns="no" hide_on_mobile="small-visibility\,medium-visibility\
 ,large-visibility" background_position="center center" background_repeat="
 no-repeat" fade="no" background_parallax="none" parallax_speed="0.3" video
 _aspect_ratio="16:9" video_loop="yes" video_mute="yes" border_style="solid
 "][fusion_builder_row][fusion_builder_column type="1_1" layout="1_1" backg
 round_position="left top" border_style="solid" border_position="all" spaci
 ng="yes" background_repeat="no-repeat" margin_top="0px" margin_bottom="0px
 " animation_speed="0.3" animation_direction="left" hide_on_mobile="small-v
 isibility\,medium-visibility\,large-visibility" center_content="no" last="
 true" hover_type="none" first="true" background_blend_mode="overlay"][/fus
 ion_builder_column][/fusion_builder_row][/fusion_builder_container]
ATTACH;FMTTYPE=image/jpeg:https://klinikum-ingolstadt.de/wp-content/upload
 s/iStock-1441786721.jpg
CATEGORIES:Fachveranstaltungen
END:VEVENT
BEGIN:VTIMEZONE
TZID:Europe/Berlin
X-LIC-LOCATION:Europe/Berlin
BEGIN:DAYLIGHT
DTSTART:20260329T030000
TZOFFSETFROM:+0100
TZOFFSETTO:+0200
TZNAME:CEST
END:DAYLIGHT
END:VTIMEZONE
END:VCALENDAR