BEGIN:VCALENDAR
VERSION:2.0
PRODID:-//wp-events-plugin.com//7.2.3.1//EN
TZID:Europe/Berlin
X-WR-TIMEZONE:Europe/Berlin
BEGIN:VEVENT
UID:706@klinikum-ingolstadt.de
DTSTART;TZID=Europe/Berlin:20260707T100000
DTEND;TZID=Europe/Berlin:20260707T150000
DTSTAMP:20260424T093846Z
URL:https://klinikum-ingolstadt.de/veranstaltungen/klinikum-ingolstadt-mac
 ht-sich-fuer-die-praevention-von-herz-kreislauf-erkrankungen-stark/
SUMMARY:Klinikum Ingolstadt macht sich für die Prävention von Herz-Kreisl
 auf Erkrankungen stark
DESCRIPTION:Infobus der Initiative „Herzenssache Lebenszeit“ am 07. Jul
 i am Rathausplatz Ingolstadt\n\nErkrankungen des Herz-Kreislauf-Systems st
 ellen die häufigste Todesursache in Deutschland und weltweit dar. Umso wi
 chtiger ist es\, die Risiken für die koronare Herzerkrankung oder Herzsch
 wäche zu kennen\, Symptome richtig zu deuten und im Notfall schnell zu re
 agieren. Am 07. Juli stehen Spezialisten aus den Bereichen Kardiologie\, N
 eurologie und Nephrologie des\nKlinikums Ingolstadt zwischen 10 und 15 Uhr
  am Rathausplatz Ingolstadt für Fragen rund um die Themen Herzinfarkt\, H
 erzschwäche\, bedrohlicheHerzrhythmusstörungen und Schlaganfall zur Verf
 ügung.\n\n 
ATTACH;FMTTYPE=image/jpeg:https://klinikum-ingolstadt.de/wp-content/upload
 s/Herzbus_BB_klein_1249038-2-scaled.jpg
CATEGORIES:Patientenveranstaltungen,Patientenverwaltung
END:VEVENT
BEGIN:VTIMEZONE
TZID:Europe/Berlin
X-LIC-LOCATION:Europe/Berlin
BEGIN:DAYLIGHT
DTSTART:20260329T030000
TZOFFSETFROM:+0100
TZOFFSETTO:+0200
TZNAME:CEST
END:DAYLIGHT
END:VTIMEZONE
END:VCALENDAR