BEGIN:VCALENDAR
VERSION:2.0
PRODID:-//wp-events-plugin.com//7.2.3.1//EN
TZID:Europe/Berlin
X-WR-TIMEZONE:Europe/Berlin
BEGIN:VEVENT
UID:278@klinikum-ingolstadt.de
DTSTART;TZID=Europe/Berlin:20260324T090000
DTEND;TZID=Europe/Berlin:20261110T163000
DTSTAMP:20260312T083720Z
URL:https://klinikum-ingolstadt.de/veranstaltungen/konstruktiver-umgang-mi
 t-herausfordernden-patienten-und-angehoerigen/
SUMMARY:Konstruktiver Umgang mit herausfordernden Patienten und Angehörige
 n
DESCRIPTION:Pflegekräfte und Ärzte erleben immer wieder Patienten oder An
 gehörige\, die sich unzureichend informiert\, übergangen\, oder nicht wa
 hrgenommen fühlen. Es kommt auch immer wieder vor\, dass Patienten und An
 gehörige Entscheidungen nicht nachvollziehen können oder spezielle Vorst
 ellungen und Erwartungen haben\, die nicht erfüllt werden\, oder nicht er
 füllt werden können. Hin und wieder kommt es in diesem Zusammenhang auch
  zu Unmutsäußerungen und Vorwürfen.
ATTACH;FMTTYPE=image/jpeg:https://klinikum-ingolstadt.de/wp-content/upload
 s/doctor-talking-to-patient-2023-11-27-04-53-44-utc-scaled-e1733873888420.
 jpg
CATEGORIES:Ärztlicher Dienst,Gesundheitsakademie,Pflegedienst,Rhetorik
 &amp; Kommunikation
LOCATION:Raum Ingolstadt im MVZ\, Levelingstraße 21\, Ingolstadt\, Bayern\
 , 85049 \, Deutschland
GEO:48.771148;11.377333
X-APPLE-STRUCTURED-LOCATION;VALUE=URI;X-ADDRESS=Levelingstraße 21\, Ingols
 tadt\, Bayern\, 85049 \, Deutschland;X-APPLE-RADIUS=100;X-TITLE=Raum Ingol
 stadt im MVZ:geo:48.771148,11.377333
END:VEVENT
BEGIN:VTIMEZONE
TZID:Europe/Berlin
X-LIC-LOCATION:Europe/Berlin
BEGIN:STANDARD
DTSTART:20251026T020000
TZOFFSETFROM:+0200
TZOFFSETTO:+0100
TZNAME:CET
END:STANDARD
BEGIN:DAYLIGHT
DTSTART:20260329T030000
TZOFFSETFROM:+0100
TZOFFSETTO:+0200
TZNAME:CEST
END:DAYLIGHT
BEGIN:STANDARD
DTSTART:20261025T020000
TZOFFSETFROM:+0200
TZOFFSETTO:+0100
TZNAME:CET
END:STANDARD
END:VTIMEZONE
END:VCALENDAR