BEGIN:VCALENDAR
VERSION:2.0
PRODID:-//wp-events-plugin.com//7.2.3.1//EN
TZID:Europe/Berlin
X-WR-TIMEZONE:Europe/Berlin
BEGIN:VEVENT
UID:459@klinikum-ingolstadt.de
DTSTART;TZID=Europe/Berlin:20261020T090000
DTEND;TZID=Europe/Berlin:20261020T160000
DTSTAMP:20250811T080946Z
URL:https://klinikum-ingolstadt.de/veranstaltungen/kostensicherung-bei-pat
 ienten-ohne-krankenversicherung/
SUMMARY:Kostensicherung bei Patienten ohne Krankenversicherung
DESCRIPTION:• Asylbewerbern und sich illegal in Deutschland aufhaltenden 
 Personen\n• Die „Pflichtversicherung“ nach § 5 Abs. 1 Nr. 13 SGB V 
 in der GKV und PKV\n• Der Erstattungsanspruch nach § 25 SGB XII\n• JV
 A-Insassen\n• Grundlagen des Betreuungsverhältnisses\n• EU-Ausländer
ATTACH;FMTTYPE=image/jpeg:https://klinikum-ingolstadt.de/wp-content/upload
 s/Administration-und-Management-scaled.jpg
CATEGORIES:Fortbildungen,Gesundheitsakademie,Recht
LOCATION:Raum Ingolstadt im MVZ\, Levelingstraße 21\, Ingolstadt\, Bayern\
 , 85049 \, Deutschland
GEO:48.771148;11.377333
X-APPLE-STRUCTURED-LOCATION;VALUE=URI;X-ADDRESS=Levelingstraße 21\, Ingols
 tadt\, Bayern\, 85049 \, Deutschland;X-APPLE-RADIUS=100;X-TITLE=Raum Ingol
 stadt im MVZ:geo:48.771148,11.377333
END:VEVENT
BEGIN:VTIMEZONE
TZID:Europe/Berlin
X-LIC-LOCATION:Europe/Berlin
BEGIN:DAYLIGHT
DTSTART:20260329T030000
TZOFFSETFROM:+0100
TZOFFSETTO:+0200
TZNAME:CEST
END:DAYLIGHT
END:VTIMEZONE
END:VCALENDAR